BEGIN:VCALENDAR
VERSION:2.0
PRODID:-//Drupal iCal API//EN
X-WR-TIMEZONE:America/New_York
BEGIN:VTIMEZONE
TZID:America/New_York
X-LIC-LOCATION:America/New_York
BEGIN:DAYLIGHT
TZNAME:EDT
TZOFFSETFROM:-0500
TZOFFSETTO:-0400
DTSTART:20260308T070000
END:DAYLIGHT
BEGIN:STANDARD
TZNAME:EST
TZOFFSETFROM:-0400
TZOFFSETTO:-0500
DTSTART:20251102T060000
END:STANDARD
END:VTIMEZONE
BEGIN:VEVENT
UID:d707d303-aa31-4012-aca9-6f0d485a12ba
DTSTART;TZID=America/New_York:20260424T170000
SEQUENCE:0
TRANSP:TRANSPARENT
DTEND;TZID=America/New_York:20260424T200000
SUMMARY:Bowling Green Fourth Fridays
CLASS:PUBLIC
DESCRIPTION:Body \n\nBowling Green’s Fourth Fridays are back\, bringing a
 n evening of\nenergy\, community\, and local flavor our Main Street. From 
 5:00 PM to\n8:00 PM\, residents and visitors are invited to experience a l
 ively\natmosphere featuring local eateries\, live music\, extended retail\
 nhours\, and sidewalk sales throughout Town. These monthly events offer\n
 a chance to explore downtown Bowling Green in a relaxed and welcoming\nset
 ting\, while supporting small businesses and enjoying entertainment\nwith 
 family and friends. Whether you are stopping by for dinner\,\nbrowsing uni
 que shops\, or simply enjoying the music\, Fourth Fridays\nprovide somethi
 ng for everyone. Mark your calendar for the following\ndates:- April 24\n
 - May 22\n- June 26\n- July 24\n- August 28\n- September 25 Come out\, co
 nnect with your community\, and enjoy all\nthat Bowling Green has to offer
  during Fourth Fridays.\n 
DTSTAMP:20260422T122221Z
END:VEVENT
BEGIN:VEVENT
UID:d707d303-aa31-4012-aca9-6f0d485a12ba
DTSTART;TZID=America/New_York:20260522T170000
SEQUENCE:0
TRANSP:TRANSPARENT
DTEND;TZID=America/New_York:20260522T200000
SUMMARY:Bowling Green Fourth Fridays
CLASS:PUBLIC
DESCRIPTION:Body \n\nBowling Green’s Fourth Fridays are back\, bringing a
 n evening of\nenergy\, community\, and local flavor our Main Street. From 
 5:00 PM to\n8:00 PM\, residents and visitors are invited to experience a l
 ively\natmosphere featuring local eateries\, live music\, extended retail\
 nhours\, and sidewalk sales throughout Town. These monthly events offer\n
 a chance to explore downtown Bowling Green in a relaxed and welcoming\nset
 ting\, while supporting small businesses and enjoying entertainment\nwith 
 family and friends. Whether you are stopping by for dinner\,\nbrowsing uni
 que shops\, or simply enjoying the music\, Fourth Fridays\nprovide somethi
 ng for everyone. Mark your calendar for the following\ndates:- April 24\n
 - May 22\n- June 26\n- July 24\n- August 28\n- September 25 Come out\, co
 nnect with your community\, and enjoy all\nthat Bowling Green has to offer
  during Fourth Fridays.\n 
DTSTAMP:20260422T122221Z
END:VEVENT
BEGIN:VEVENT
UID:d707d303-aa31-4012-aca9-6f0d485a12ba
DTSTART;TZID=America/New_York:20260626T170000
SEQUENCE:0
TRANSP:TRANSPARENT
DTEND;TZID=America/New_York:20260626T200000
SUMMARY:Bowling Green Fourth Fridays
CLASS:PUBLIC
DESCRIPTION:Body \n\nBowling Green’s Fourth Fridays are back\, bringing a
 n evening of\nenergy\, community\, and local flavor our Main Street. From 
 5:00 PM to\n8:00 PM\, residents and visitors are invited to experience a l
 ively\natmosphere featuring local eateries\, live music\, extended retail\
 nhours\, and sidewalk sales throughout Town. These monthly events offer\n
 a chance to explore downtown Bowling Green in a relaxed and welcoming\nset
 ting\, while supporting small businesses and enjoying entertainment\nwith 
 family and friends. Whether you are stopping by for dinner\,\nbrowsing uni
 que shops\, or simply enjoying the music\, Fourth Fridays\nprovide somethi
 ng for everyone. Mark your calendar for the following\ndates:- April 24\n
 - May 22\n- June 26\n- July 24\n- August 28\n- September 25 Come out\, co
 nnect with your community\, and enjoy all\nthat Bowling Green has to offer
  during Fourth Fridays.\n 
DTSTAMP:20260422T122221Z
END:VEVENT
BEGIN:VEVENT
UID:d707d303-aa31-4012-aca9-6f0d485a12ba
DTSTART;TZID=America/New_York:20260724T170000
SEQUENCE:0
TRANSP:TRANSPARENT
DTEND;TZID=America/New_York:20260724T200000
SUMMARY:Bowling Green Fourth Fridays
CLASS:PUBLIC
DESCRIPTION:Body \n\nBowling Green’s Fourth Fridays are back\, bringing a
 n evening of\nenergy\, community\, and local flavor our Main Street. From 
 5:00 PM to\n8:00 PM\, residents and visitors are invited to experience a l
 ively\natmosphere featuring local eateries\, live music\, extended retail\
 nhours\, and sidewalk sales throughout Town. These monthly events offer\n
 a chance to explore downtown Bowling Green in a relaxed and welcoming\nset
 ting\, while supporting small businesses and enjoying entertainment\nwith 
 family and friends. Whether you are stopping by for dinner\,\nbrowsing uni
 que shops\, or simply enjoying the music\, Fourth Fridays\nprovide somethi
 ng for everyone. Mark your calendar for the following\ndates:- April 24\n
 - May 22\n- June 26\n- July 24\n- August 28\n- September 25 Come out\, co
 nnect with your community\, and enjoy all\nthat Bowling Green has to offer
  during Fourth Fridays.\n 
DTSTAMP:20260422T122221Z
END:VEVENT
BEGIN:VEVENT
UID:d707d303-aa31-4012-aca9-6f0d485a12ba
DTSTART;TZID=America/New_York:20260828T170000
SEQUENCE:0
TRANSP:TRANSPARENT
DTEND;TZID=America/New_York:20260828T200000
SUMMARY:Bowling Green Fourth Fridays
CLASS:PUBLIC
DESCRIPTION:Body \n\nBowling Green’s Fourth Fridays are back\, bringing a
 n evening of\nenergy\, community\, and local flavor our Main Street. From 
 5:00 PM to\n8:00 PM\, residents and visitors are invited to experience a l
 ively\natmosphere featuring local eateries\, live music\, extended retail\
 nhours\, and sidewalk sales throughout Town. These monthly events offer\n
 a chance to explore downtown Bowling Green in a relaxed and welcoming\nset
 ting\, while supporting small businesses and enjoying entertainment\nwith 
 family and friends. Whether you are stopping by for dinner\,\nbrowsing uni
 que shops\, or simply enjoying the music\, Fourth Fridays\nprovide somethi
 ng for everyone. Mark your calendar for the following\ndates:- April 24\n
 - May 22\n- June 26\n- July 24\n- August 28\n- September 25 Come out\, co
 nnect with your community\, and enjoy all\nthat Bowling Green has to offer
  during Fourth Fridays.\n 
DTSTAMP:20260422T122221Z
END:VEVENT
BEGIN:VEVENT
UID:d707d303-aa31-4012-aca9-6f0d485a12ba
DTSTART;TZID=America/New_York:20260925T170000
SEQUENCE:0
TRANSP:TRANSPARENT
DTEND;TZID=America/New_York:20260925T200000
SUMMARY:Bowling Green Fourth Fridays
CLASS:PUBLIC
DESCRIPTION:Body \n\nBowling Green’s Fourth Fridays are back\, bringing a
 n evening of\nenergy\, community\, and local flavor our Main Street. From 
 5:00 PM to\n8:00 PM\, residents and visitors are invited to experience a l
 ively\natmosphere featuring local eateries\, live music\, extended retail\
 nhours\, and sidewalk sales throughout Town. These monthly events offer\n
 a chance to explore downtown Bowling Green in a relaxed and welcoming\nset
 ting\, while supporting small businesses and enjoying entertainment\nwith 
 family and friends. Whether you are stopping by for dinner\,\nbrowsing uni
 que shops\, or simply enjoying the music\, Fourth Fridays\nprovide somethi
 ng for everyone. Mark your calendar for the following\ndates:- April 24\n
 - May 22\n- June 26\n- July 24\n- August 28\n- September 25 Come out\, co
 nnect with your community\, and enjoy all\nthat Bowling Green has to offer
  during Fourth Fridays.\n 
DTSTAMP:20260422T122221Z
END:VEVENT
END:VCALENDAR